BEGIN:VCALENDAR
VERSION:2.0
PRODID:-//Local Market YQR - ECPv6.6.1//NONSGML v1.0//EN
CALSCALE:GREGORIAN
METHOD:PUBLISH
X-WR-CALNAME:Local Market YQR
X-ORIGINAL-URL:https://localmarketyqr.ca
X-WR-CALDESC:Events for Local Market YQR
REFRESH-INTERVAL;VALUE=DURATION:PT1H
X-Robots-Tag:noindex
X-PUBLISHED-TTL:PT1H
BEGIN:VTIMEZONE
TZID:America/Regina
BEGIN:STANDARD
TZOFFSETFROM:-0600
TZOFFSETTO:-0600
TZNAME:CST
DTSTART:20190101T000000
END:STANDARD
END:VTIMEZONE
BEGIN:VEVENT
DTSTART;TZID=America/Regina:20190830T110000
DTEND;TZID=America/Regina:20190830T140000
DTSTAMP:20260422T024026
CREATED:20190830T150615Z
LAST-MODIFIED:20191011T185821Z
UID:714-1567162800-1567173600@localmarketyqr.ca
SUMMARY:Local Food Hall - The Big Easy Kitchen
DESCRIPTION:New Orleans food right here in Regina!!  Chef Warren takes over the Local Food Hall Kitchen. \nMenu for Friday August 30th \nPopcorn Chicken \nHot Sausage Sandwich \nFried Chicken Sandwich \nFried Pickles
URL:https://localmarketyqr.ca/event/the-big-easy-kitchen-aug-30/
LOCATION:Local Market YQR\, 1377 Hamilton St\, Regina\, Saskatchewan\, Canada
END:VEVENT
BEGIN:VEVENT
DTSTART;TZID=America/Regina:20190828T110000
DTEND;TZID=America/Regina:20190828T140000
DTSTAMP:20260422T024026
CREATED:20190828T023951Z
LAST-MODIFIED:20191011T185435Z
UID:681-1566990000-1567000800@localmarketyqr.ca
SUMMARY:Local Food Hall - Big Easy Kitchen
DESCRIPTION:Big Easy Kitchen menu for Aug 28th \n\nNola Poutine\nGumbo\nCatfish Creole\nHot Sausage Sandwich\nChicken Sandwich\nCatfish Po-boy
URL:https://localmarketyqr.ca/event/big-easy-kitchen/
LOCATION:Local Market YQR\, 1377 Hamilton St\, Regina\, Saskatchewan\, Canada
CATEGORIES:Local Food Hall
END:VEVENT
BEGIN:VEVENT
DTSTART;TZID=America/Regina:20190820T110000
DTEND;TZID=America/Regina:20190820T140000
DTSTAMP:20260422T024026
CREATED:20190815T191842Z
LAST-MODIFIED:20191011T185329Z
UID:561-1566298800-1566309600@localmarketyqr.ca
SUMMARY:Local Food Hall - Iatridis Bro’s
DESCRIPTION:Lunch Menu\nSmash Burgers $10\nClassic “OG” Smash\nGreek Smash\nSpicy Asian Smash\n\nAdd Fries $3\nLarge Fries $5\nAssorted Drinks $2
URL:https://localmarketyqr.ca/event/local-food-hall-iatridis-bros/
LOCATION:Local Market YQR\, 1377 Hamilton St\, Regina\, Saskatchewan\, Canada
CATEGORIES:Local Food Hall
ATTACH;FMTTYPE=image/jpeg:https://localmarketyqr.ca/wp-content/uploads/2019/08/67197746_361611977839220_3975919367318945053_n.jpg
END:VEVENT
END:VCALENDAR