BEGIN:VCALENDAR
VERSION:2.0
PRODID:-//Local Market YQR - ECPv6.6.1//NONSGML v1.0//EN
CALSCALE:GREGORIAN
METHOD:PUBLISH
X-ORIGINAL-URL:https://localmarketyqr.ca
X-WR-CALDESC:Events for Local Market YQR
REFRESH-INTERVAL;VALUE=DURATION:PT1H
X-Robots-Tag:noindex
X-PUBLISHED-TTL:PT1H
BEGIN:VTIMEZONE
TZID:America/Regina
BEGIN:STANDARD
TZOFFSETFROM:-0600
TZOFFSETTO:-0600
TZNAME:CST
DTSTART:20230101T000000
END:STANDARD
END:VTIMEZONE
BEGIN:VEVENT
DTSTART;TZID=America/Regina:20231206T180000
DTEND;TZID=America/Regina:20231206T200000
DTSTAMP:20260422T182942
CREATED:20231107T185001Z
LAST-MODIFIED:20231114T024127Z
UID:3583-1701885600-1701892800@localmarketyqr.ca
SUMMARY:Holiday Wreath Building Workshop - Sherwood Greenhouses
DESCRIPTION:Discover the joy of crafting wreaths from scratch at Sherwood Greenhouse’s Wreath Making Workshop. Our expert instructors will guide you in creating beautiful wreaths using natural materials. All supplies are included\, so you can enjoy a hands-on experience. Join us and bring a personal touch to your holiday decorations! Reserve your spot today. \nPrice: $85 + Taxes ($94.35 inc. Tax)
URL:https://localmarketyqr.ca/event/holiday-wreath-building-workshop-sherwood-greenhouses/
CATEGORIES:Warehouse Wonderland Festival,Workshops
ATTACH;FMTTYPE=image/jpeg:https://localmarketyqr.ca/wp-content/uploads/2023/11/Warehouse_1.jpg.jpeg
END:VEVENT
END:VCALENDAR