BEGIN:VCALENDAR
VERSION:2.0
PRODID:-//Local Market YQR - ECPv6.6.1//NONSGML v1.0//EN
CALSCALE:GREGORIAN
METHOD:PUBLISH
X-ORIGINAL-URL:https://localmarketyqr.ca
X-WR-CALDESC:Events for Local Market YQR
REFRESH-INTERVAL;VALUE=DURATION:PT1H
X-Robots-Tag:noindex
X-PUBLISHED-TTL:PT1H
BEGIN:VTIMEZONE
TZID:America/Regina
BEGIN:STANDARD
TZOFFSETFROM:-0600
TZOFFSETTO:-0600
TZNAME:CST
DTSTART:20230101T000000
END:STANDARD
END:VTIMEZONE
BEGIN:VEVENT
DTSTART;TZID=America/Regina:20231206T180000
DTEND;TZID=America/Regina:20231206T200000
DTSTAMP:20260422T165323
CREATED:20231107T185001Z
LAST-MODIFIED:20231114T024127Z
UID:3583-1701885600-1701892800@localmarketyqr.ca
SUMMARY:Holiday Wreath Building Workshop - Sherwood Greenhouses
DESCRIPTION:Discover the joy of crafting wreaths from scratch at Sherwood Greenhouse’s Wreath Making Workshop. Our expert instructors will guide you in creating beautiful wreaths using natural materials. All supplies are included\, so you can enjoy a hands-on experience. Join us and bring a personal touch to your holiday decorations! Reserve your spot today. \nPrice: $85 + Taxes ($94.35 inc. Tax)
URL:https://localmarketyqr.ca/event/holiday-wreath-building-workshop-sherwood-greenhouses/
CATEGORIES:Warehouse Wonderland Festival,Workshops
ATTACH;FMTTYPE=image/jpeg:https://localmarketyqr.ca/wp-content/uploads/2023/11/Warehouse_1.jpg.jpeg
END:VEVENT
BEGIN:VEVENT
DTSTART;TZID=America/Regina:20231207T173000
DTEND;TZID=America/Regina:20231207T190000
DTSTAMP:20260422T165323
CREATED:20231107T185821Z
LAST-MODIFIED:20231207T192031Z
UID:3589-1701970200-1701975600@localmarketyqr.ca
SUMMARY:Holiday Centrepiece Workshop - Sherwood Greenhouses
DESCRIPTION:Join us and Sherwood Greenhouse for a delightful Centerpiece Workshop! Discover your creative side as you craft beautiful centerpieces that will enhance your home decor. Our experienced instructors will guide you through the process\, and all materials will be provided. It’s the perfect opportunity to add a touch of nature to your living space. Reserve your spot today and let your creativity bloom!\n\nPrice: $55 plus tax  ($61.05 inc. tax)
URL:https://localmarketyqr.ca/event/holiday-centrepiece-workshop-sherwood-greenhouses/
CATEGORIES:Warehouse Wonderland Festival,Workshops
ATTACH;FMTTYPE=image/jpeg:https://localmarketyqr.ca/wp-content/uploads/2023/11/Warehouse.jpg-2.jpeg
END:VEVENT
BEGIN:VEVENT
DTSTART;TZID=America/Regina:20231207T190000
DTEND;TZID=America/Regina:20231207T190000
DTSTAMP:20260422T165323
CREATED:20231107T190425Z
LAST-MODIFIED:20231207T192130Z
UID:3592-1701975600-1701975600@localmarketyqr.ca
SUMMARY:Holiday Outdoor Planter Workshop - Sherwood Greenhouses
DESCRIPTION:Looking to add some festive cheer to your winter landscape? Our Holiday Planter Workshop is the perfect solution! Our experienced design team will help you craft custom outdoor planters filled with seasonal foliage. Get creative and add your own unique touches for a personalized holiday look.\n\nPrice: $75 + tax ($82.50 inc. tax)
URL:https://localmarketyqr.ca/event/holiday-outdoor-planter-workshop-sherwood-greenhouses/
CATEGORIES:Warehouse Wonderland Festival,Workshops
ATTACH;FMTTYPE=image/jpeg:https://localmarketyqr.ca/wp-content/uploads/2023/11/Warehouse_2.jpg.jpeg
END:VEVENT
BEGIN:VEVENT
DTSTART;TZID=America/Regina:20231209T200000
DTEND;TZID=America/Regina:20231209T220000
DTSTAMP:20260422T165323
CREATED:20231126T040941Z
LAST-MODIFIED:20231129T182853Z
UID:3910-1702152000-1702159200@localmarketyqr.ca
SUMMARY:Cocktails with Judd from Paperback Beverage Co.  - Holiday Date Night Workshop
DESCRIPTION:Mix up some holiday cheer with a night of hands-on cocktail making. Hosted by Judd Stachoski\, a seasoned bartender and mixologist who also created Paperback Beverage Company\, the event will focus on some techniques and tips you can use at home. Get some insider knowledge on making cocktail syrups\, finding the right balance in a drink\, and garnishing with some flare. Prepare to measure out the good times and stir in some fun holiday spirits. \nNon-Alc versions of each drink will be included as well. \n$50 / person plus tax ($55.50)
URL:https://localmarketyqr.ca/event/cocktails-with-judd-from-paperback-beverage-co-holiday-date-night-workshop/
CATEGORIES:Warehouse Wonderland Festival,Workshops
ATTACH;FMTTYPE=image/png:https://localmarketyqr.ca/wp-content/uploads/2023/11/cocktail.png
END:VEVENT
BEGIN:VEVENT
DTSTART;TZID=America/Regina:20231210T093000
DTEND;TZID=America/Regina:20231210T230000
DTSTAMP:20260422T165323
CREATED:20231104T020731Z
LAST-MODIFIED:20231112T032231Z
UID:3540-1702200600-1702249200@localmarketyqr.ca
SUMMARY:Make your own Christmas Pickles Workshop
DESCRIPTION:Make your own Christmas Pickles \nHosted by the Land Produce  \nDiscover the Art of Christmas Pickling in Saskatchewan!  \nEmbrace the holiday season with a dash of Saskatchewan flair by joining our Christmas Pickle Class! There’s nothing more quintessentially Saskatchewan than the classic dill pickle\, and we’re here to elevate your holiday festivities with a pickle-making experience like no other. This class is suitable for those 16 years of age and older as there is some chopping involved!  \nWe provide everything you need to craft your very own custom refrigerator pickles. From spices and brine to a variety of unique flavors\, your pickle adventure begins here. \nPickle Expertise: Our knowledgeable pickle host will be on hand to guide you through the art of pickle-making\, ensuring you have the best experience and leave with pickles you’ll be proud to share. \nCustom Flavors: Experiment with custom flavors to make your pickles truly unique. From traditional dill\, bread and butter\, mulled Christmas to spicy jalapeno basil\, the choice is yours! \nIncludes 3 jars of flavor creations of your choosing. \nPrice: $40 plus tax ($44.40 inc. tax)
URL:https://localmarketyqr.ca/event/make-your-own-christmas-pickles-workshop/
CATEGORIES:Warehouse Wonderland Festival,Workshops
ATTACH;FMTTYPE=image/jpeg:https://localmarketyqr.ca/wp-content/uploads/2023/11/342.jpeg
END:VEVENT
BEGIN:VEVENT
DTSTART;TZID=America/Regina:20231210T113000
DTEND;TZID=America/Regina:20231210T130000
DTSTAMP:20260422T165323
CREATED:20231104T015414Z
LAST-MODIFIED:20231112T032319Z
UID:3533-1702207800-1702213200@localmarketyqr.ca
SUMMARY:Holiday Gingerbread Centerpiece Workshop
DESCRIPTION:Gingerbread Centerpiece Class\nAre you ready to add a touch of magic to your holiday décor? Land Produce invites you to our\nenchanting Gingerbread Centerpiece Class\, where you will create a stunning\, reusable\ncenterpiece that will elevate your holiday celebrations year after year. THis class is suitable for\nthose 12 years and older as it does require some hot glue work!\nShare the joy of the season with a captivating gingerbread centrepiece made with love and\ncreativity. Join us at Land Produce for a memorable class that will brighten your home and your\nheart.\nPrice: $60 + Tax / Person ($66.60 Inc. Tax)
URL:https://localmarketyqr.ca/event/gingerbreadcenterpiece/
CATEGORIES:Warehouse Wonderland Festival,Workshops
ATTACH;FMTTYPE=image/jpeg:https://localmarketyqr.ca/wp-content/uploads/2023/11/351.jpeg
END:VEVENT
BEGIN:VEVENT
DTSTART;TZID=America/Regina:20231210T140000
DTEND;TZID=America/Regina:20231210T160000
DTSTAMP:20260422T165323
CREATED:20231108T181051Z
LAST-MODIFIED:20231112T024602Z
UID:3708-1702216800-1702224000@localmarketyqr.ca
SUMMARY:Holiday Ornament Decorating Workshop - Parent and Child - Arthouse by Brianne Urzada
DESCRIPTION:special time together designing and creating holiday ornaments. Let Brianne from Arthouse guide you through a two hour session of painting and decorating festive\, wood clothespin doll ornaments. This parent/child class is the perfect way to let your creativity shine during the holiday season while bonding with your little. Kids will love how custom the event is with so many materials available\, including pom poms\, ribbon\, paint\, pens\, pipe cleaners\, and buttons to make their holiday doll their own. All ages are welcome\, as long as you think the child can follow instruction and stay engaged for the two hour time period. Connect\, be creative and get in the holiday spirit! \n  \nPrice: $85 + Tax ($94.35) \nWorkshop put on and Sponsored by
URL:https://localmarketyqr.ca/event/holiday-ornament-decorating-workshop-parent-and-child-arthouse-by-brianne-urzada/
CATEGORIES:Warehouse Wonderland Festival,Workshops
ATTACH;FMTTYPE=image/jpeg:https://localmarketyqr.ca/wp-content/uploads/2023/11/Warehouse.jpg-3.jpeg
END:VEVENT
END:VCALENDAR