BEGIN:VCALENDAR
VERSION:2.0
PRODID:-//Local Market YQR - ECPv6.6.1//NONSGML v1.0//EN
CALSCALE:GREGORIAN
METHOD:PUBLISH
X-WR-CALNAME:Local Market YQR
X-ORIGINAL-URL:https://localmarketyqr.ca
X-WR-CALDESC:Events for Local Market YQR
REFRESH-INTERVAL;VALUE=DURATION:PT1H
X-Robots-Tag:noindex
X-PUBLISHED-TTL:PT1H
BEGIN:VTIMEZONE
TZID:America/Regina
BEGIN:STANDARD
TZOFFSETFROM:-0600
TZOFFSETTO:-0600
TZNAME:CST
DTSTART:20230101T000000
END:STANDARD
END:VTIMEZONE
BEGIN:VEVENT
DTSTART;TZID=America/Regina:20230309T181500
DTEND;TZID=America/Regina:20230309T200000
DTSTAMP:20260422T041803
CREATED:20230228T170239Z
LAST-MODIFIED:20230228T170358Z
UID:2788-1678385700-1678392000@localmarketyqr.ca
SUMMARY:Pure Living Yoga Kickoff Event - Sound Off Experience
DESCRIPTION:Join Pure Living Yoga and Zenhouse Productions in the Local Food Hall for a unique evening of yoga\, music\, treats\, and shopping. \nShow up and put on your sound off headphones. These headphones will be worn throughout the event to create an immersive environment. Enjoy live music from Zenhouse productions\, an after hours shopping experience through the Local Market vendors while enjoying your cafe treat of choice. The evening will end with a sound off gentle yoga practice designed to relax the body and mind. Join us to connect with yourself and your local community. \nEvening Schedule\n– 6:15-6:30pm: Arrival\n– 6:15-7:00pm: Sound Off Shop & Snack\n– 7:00-8:00pm: Sound Off Yoga \nDetails\nThursday\, March 9th\n@ 6:15-8:00pm\n$26.00
URL:https://localmarketyqr.ca/event/pure-living-yoga-kickoff-event-sound-off-experience/
LOCATION:Local Market YQR\, 1377 Hamilton St\, Regina\, Saskatchewan\, Canada
CATEGORIES:Local Food Hall
END:VEVENT
END:VCALENDAR